BEGIN:VCALENDAR
PRODID:-//eluceo/ical//2.0/EN
VERSION:2.0
CALSCALE:GREGORIAN
BEGIN:VEVENT
UID:37194d56f690c63b63fbe3839ec94b44
DTSTAMP:20260424T084435Z
SUMMARY:Studienreise nach Marokko wird auf April 2024 verschoben
DESCRIPTION:Fyrirlesari(ar): 
URL:https://icc-morocco.polaris.rotary.ch/is/agenda/show/165271
DTSTART;TZID=Europe/Zurich:20230831T170000
DTEND;TZID=Europe/Zurich:20230831T170000
LOCATION:Studienreise nach Marokko
CATEGORIES:Rotary
END:VEVENT
BEGIN:VTIMEZONE
TZID:Europe/Zurich
BEGIN:DAYLIGHT
DTSTART:20230831T170000
TZNAME:CEST
TZOFFSETTO:+0200
TZOFFSETFROM:+0200
END:DAYLIGHT
END:VTIMEZONE
END:VCALENDAR
