BEGIN:VCALENDAR
PRODID:-//eluceo/ical//2.0/EN
VERSION:2.0
CALSCALE:GREGORIAN
BEGIN:VEVENT
UID:8476575b4165a0d69da9c7a5e1097750
DTSTAMP:20260420T110458Z
SUMMARY:Plauderlunch
DESCRIPTION:Website: http://www.kreuz-kappel.ch/\nSprekers: 
URL:https://rotary-olten-west.ch/nl/agenda/show/211960
DTSTART;TZID=Europe/Zurich:20260430T120000
DTEND;TZID=Europe/Zurich:20260430T133000
LOCATION:Landgasthof Kreuz\, Mittelgäustrasse 20\, 4616 Kappel SO
CATEGORIES:Rotary
END:VEVENT
BEGIN:VTIMEZONE
TZID:Europe/Zurich
BEGIN:DAYLIGHT
DTSTART:20260430T120000
TZNAME:CEST
TZOFFSETTO:+0200
TZOFFSETFROM:+0200
END:DAYLIGHT
END:VTIMEZONE
END:VCALENDAR
